BEGIN:VCALENDAR
VERSION:2.0
PRODID:-//Dentons ventureBeyond - ECPv6.15.20//NONSGML v1.0//EN
CALSCALE:GREGORIAN
METHOD:PUBLISH
X-WR-CALNAME:Dentons ventureBeyond
X-ORIGINAL-URL:https://www.dentonsventurebeyond.com
X-WR-CALDESC:Events for Dentons ventureBeyond
REFRESH-INTERVAL;VALUE=DURATION:PT1H
X-Robots-Tag:noindex
X-PUBLISHED-TTL:PT1H
BEGIN:VTIMEZONE
TZID:America/New_York
BEGIN:DAYLIGHT
TZOFFSETFROM:-0500
TZOFFSETTO:-0400
TZNAME:EDT
DTSTART:20240310T070000
END:DAYLIGHT
BEGIN:STANDARD
TZOFFSETFROM:-0400
TZOFFSETTO:-0500
TZNAME:EST
DTSTART:20241103T060000
END:STANDARD
BEGIN:DAYLIGHT
TZOFFSETFROM:-0500
TZOFFSETTO:-0400
TZNAME:EDT
DTSTART:20250309T070000
END:DAYLIGHT
BEGIN:STANDARD
TZOFFSETFROM:-0400
TZOFFSETTO:-0500
TZNAME:EST
DTSTART:20251102T060000
END:STANDARD
BEGIN:DAYLIGHT
TZOFFSETFROM:-0500
TZOFFSETTO:-0400
TZNAME:EDT
DTSTART:20260308T070000
END:DAYLIGHT
BEGIN:STANDARD
TZOFFSETFROM:-0400
TZOFFSETTO:-0500
TZNAME:EST
DTSTART:20261101T060000
END:STANDARD
END:VTIMEZONE
BEGIN:VEVENT
DTSTART;TZID=America/New_York:20250930T130000
DTEND;TZID=America/New_York:20250930T140000
DTSTAMP:20260425T135346
CREATED:20250929T190735Z
LAST-MODIFIED:20250929T191649Z
UID:5642-1759237200-1759240800@www.dentonsventurebeyond.com
SUMMARY:Investing at the Frontier: AI\, Sustainability and Resilience in 2025 with GV\, IQT and Drive Capital
DESCRIPTION:The venture landscape is evolving rapidly\, with institutional capital flowing into areas that are shaping both markets and society. From the infrastructure enabling AI to dual-use technologies bridging commercial and national security needs\, investors are seeking opportunities that combine innovation with resilience. \nJoin leaders from GV\, IQT and Dentons for a virtual conversation that explores how global forces\, technological breakthroughs and shifting capital dynamics are defining the next wave of early- and growth-stage investing. \nDiscussion highlights:\n\nAI today and tomorrow: Applied AI vs. infrastructure and where long-term value lies.\nDual-use innovation: Robotics\, space\, cybersecurity\, biotech and advanced manufacturing.\nEnergy and sustainability: Tackling datacenter and EV-driven energy demand.\nResilience in uncertain times: Conflict\, supply chains and global volatility.\nWhat founders must demonstrate: Traction and focus in today’s tighter fundraising market.
URL:https://www.dentonsventurebeyond.com/event/investing-at-the-frontier-ai-sustainability-and-resilience-in-2025-with-gv-iqt-and-drive-capital/
END:VEVENT
END:VCALENDAR