BEGIN:VCALENDAR
VERSION:2.0
PRODID:-//Dentons ventureBeyond - ECPv6.15.20//NONSGML v1.0//EN
CALSCALE:GREGORIAN
METHOD:PUBLISH
X-WR-CALNAME:Dentons ventureBeyond
X-ORIGINAL-URL:https://www.dentonsventurebeyond.com
X-WR-CALDESC:Events for Dentons ventureBeyond
REFRESH-INTERVAL;VALUE=DURATION:PT1H
X-Robots-Tag:noindex
X-PUBLISHED-TTL:PT1H
BEGIN:VTIMEZONE
TZID:America/New_York
BEGIN:DAYLIGHT
TZOFFSETFROM:-0500
TZOFFSETTO:-0400
TZNAME:EDT
DTSTART:20240310T070000
END:DAYLIGHT
BEGIN:STANDARD
TZOFFSETFROM:-0400
TZOFFSETTO:-0500
TZNAME:EST
DTSTART:20241103T060000
END:STANDARD
BEGIN:DAYLIGHT
TZOFFSETFROM:-0500
TZOFFSETTO:-0400
TZNAME:EDT
DTSTART:20250309T070000
END:DAYLIGHT
BEGIN:STANDARD
TZOFFSETFROM:-0400
TZOFFSETTO:-0500
TZNAME:EST
DTSTART:20251102T060000
END:STANDARD
BEGIN:DAYLIGHT
TZOFFSETFROM:-0500
TZOFFSETTO:-0400
TZNAME:EDT
DTSTART:20260308T070000
END:DAYLIGHT
BEGIN:STANDARD
TZOFFSETFROM:-0400
TZOFFSETTO:-0500
TZNAME:EST
DTSTART:20261101T060000
END:STANDARD
END:VTIMEZONE
BEGIN:VEVENT
DTSTART;TZID=America/New_York:20250731T130000
DTEND;TZID=America/New_York:20250731T140000
DTSTAMP:20260425T104540
CREATED:20250805T165828Z
LAST-MODIFIED:20250805T165828Z
UID:5590-1753966800-1753970400@www.dentonsventurebeyond.com
SUMMARY:Q2 2025 PitchBook-NVCA Venture Monitor Webinar
DESCRIPTION:Halfway through 2025\, the venture market remains defined by liquidity concerns and surging interest in AI. Investment power has concentrated among firms with ample dry powder and established track records. Meanwhile\, tariffs and geopolitical uncertainty continue to dampen IPO prospects despite a recent surge in new public listings\, while a handful of billion-dollar M&A deals closed in Q2\, driven in large part by highly capitalized\, VC-backed companies. \nIn this webinar\, created in partnership with the National Venture Capital Association (NVCA)\, our panel of experts examine current US VC trends\, analyze their impact on the market moving forward\, and offer their perspectives on the rest of the year’s outlook. \nKey topics\n\nDown round IPOs are the new normal\nSecondaries have provided some limited liquidity relief\nDealmaking continues its focus on AI\nFundraising is waiting on a return of large exits
URL:https://www.dentonsventurebeyond.com/event/q2-2025-pitchbook-nvca-venture-monitor-webinar/
END:VEVENT
END:VCALENDAR