BEGIN:VCALENDAR
VERSION:2.0
PRODID:-//Dentons ventureBeyond - ECPv6.15.20//NONSGML v1.0//EN
CALSCALE:GREGORIAN
METHOD:PUBLISH
X-WR-CALNAME:Dentons ventureBeyond
X-ORIGINAL-URL:https://www.dentonsventurebeyond.com
X-WR-CALDESC:Events for Dentons ventureBeyond
REFRESH-INTERVAL;VALUE=DURATION:PT1H
X-Robots-Tag:noindex
X-PUBLISHED-TTL:PT1H
BEGIN:VTIMEZONE
TZID:America/New_York
BEGIN:DAYLIGHT
TZOFFSETFROM:-0500
TZOFFSETTO:-0400
TZNAME:EDT
DTSTART:20240310T070000
END:DAYLIGHT
BEGIN:STANDARD
TZOFFSETFROM:-0400
TZOFFSETTO:-0500
TZNAME:EST
DTSTART:20241103T060000
END:STANDARD
BEGIN:DAYLIGHT
TZOFFSETFROM:-0500
TZOFFSETTO:-0400
TZNAME:EDT
DTSTART:20250309T070000
END:DAYLIGHT
BEGIN:STANDARD
TZOFFSETFROM:-0400
TZOFFSETTO:-0500
TZNAME:EST
DTSTART:20251102T060000
END:STANDARD
BEGIN:DAYLIGHT
TZOFFSETFROM:-0500
TZOFFSETTO:-0400
TZNAME:EDT
DTSTART:20260308T070000
END:DAYLIGHT
BEGIN:STANDARD
TZOFFSETFROM:-0400
TZOFFSETTO:-0500
TZNAME:EST
DTSTART:20261101T060000
END:STANDARD
END:VTIMEZONE
BEGIN:VEVENT
DTSTART;TZID=America/New_York:20250603T090000
DTEND;TZID=America/New_York:20250603T103000
DTSTAMP:20260425T090443
CREATED:20250805T145440Z
LAST-MODIFIED:20250805T145440Z
UID:5580-1748941200-1748946600@www.dentonsventurebeyond.com
SUMMARY:Brexfast Club w/ FirstGen Founders\, Operators and Investors
DESCRIPTION:Join us for Brexfast Club co-hosted with ​FirstGen and One Way Ventures and connect with immigrant and first-gen Founders\, Operators & VCs during #NYTechWeek.
URL:https://www.dentonsventurebeyond.com/event/brexfast-club-w-firstgen-founders-operators-and-investors/
LOCATION:New York\, NY
END:VEVENT
BEGIN:VEVENT
DTSTART;TZID=America/New_York:20250603T180000
DTEND;TZID=America/New_York:20250603T210000
DTSTAMP:20260425T090443
CREATED:20250805T161814Z
LAST-MODIFIED:20250805T161814Z
UID:5584-1748973600-1748984400@www.dentonsventurebeyond.com
SUMMARY:Taco Tuesday: NYC Founders & Investors
DESCRIPTION:Join us during #NYTechWeek for a cocktail mixer and small bites for the chance to meet New York City’s earliest founders and investors\, including Bling Capital\, Correlation Ventures\, Max Ventures\, Daybreak\, Field Ventures and BBG Ventures.
URL:https://www.dentonsventurebeyond.com/event/taco-tuesday-nyc-founders-investors/
LOCATION:New York\, NY
END:VEVENT
BEGIN:VEVENT
DTSTART;TZID=America/New_York:20250604T180000
DTEND;TZID=America/New_York:20250604T210000
DTSTAMP:20260425T090443
CREATED:20250805T164637Z
LAST-MODIFIED:20250805T164637Z
UID:5586-1749060000-1749070800@www.dentonsventurebeyond.com
SUMMARY:NY Tech Week Investor & Founder Mixer with Rayo Capital\, W3F\, Stand with Crypto and Draper University Ventures
DESCRIPTION:​​Join Rayo\, W3F\, Stand with Crypto and Draper University Ventures for an evening of connection\, collaboration\, and community! We welcome everyone in town for NYC Tech Week to join our community of founders\, developers and builders to join us over light refreshments.
URL:https://www.dentonsventurebeyond.com/event/ny-tech-week-investor-founder-mixer-with-rayo-capital-w3f-stand-with-crypto-and-draper-university-ventures/
LOCATION:New York\, NY
END:VEVENT
BEGIN:VEVENT
DTSTART;TZID=America/New_York:20250618T105500
DTEND;TZID=America/New_York:20250618T112500
DTSTAMP:20260425T090443
CREATED:20250805T172952Z
LAST-MODIFIED:20250805T172952Z
UID:5593-1750244100-1750245900@www.dentonsventurebeyond.com
SUMMARY:GCV London Symposium Sector Spotlight Panel: National Security & Defense Technology
DESCRIPTION:From AI-driven threat detection to quantum-resistant encryption\, the next wave of defense technology is being shaped by innovative startups and strategic investors. Moderated by Dentons Global Venture Technology Chair Victor Boyajian\, this panel will uncover how venture capital\, government partnerships and breakthrough technologies are converging to address national security challenges.
URL:https://www.dentonsventurebeyond.com/event/gcv-london-symposium-sector-spotlight-panel-national-security-defense-technology/
LOCATION:London
END:VEVENT
END:VCALENDAR