BEGIN:VCALENDAR
VERSION:2.0
PRODID:-//Dentons ventureBeyond - ECPv6.15.20//NONSGML v1.0//EN
CALSCALE:GREGORIAN
METHOD:PUBLISH
X-WR-CALNAME:Dentons ventureBeyond
X-ORIGINAL-URL:https://www.dentonsventurebeyond.com
X-WR-CALDESC:Events for Dentons ventureBeyond
REFRESH-INTERVAL;VALUE=DURATION:PT1H
X-Robots-Tag:noindex
X-PUBLISHED-TTL:PT1H
BEGIN:VTIMEZONE
TZID:America/New_York
BEGIN:DAYLIGHT
TZOFFSETFROM:-0500
TZOFFSETTO:-0400
TZNAME:EDT
DTSTART:20240310T070000
END:DAYLIGHT
BEGIN:STANDARD
TZOFFSETFROM:-0400
TZOFFSETTO:-0500
TZNAME:EST
DTSTART:20241103T060000
END:STANDARD
BEGIN:DAYLIGHT
TZOFFSETFROM:-0500
TZOFFSETTO:-0400
TZNAME:EDT
DTSTART:20250309T070000
END:DAYLIGHT
BEGIN:STANDARD
TZOFFSETFROM:-0400
TZOFFSETTO:-0500
TZNAME:EST
DTSTART:20251102T060000
END:STANDARD
BEGIN:DAYLIGHT
TZOFFSETFROM:-0500
TZOFFSETTO:-0400
TZNAME:EDT
DTSTART:20260308T070000
END:DAYLIGHT
BEGIN:STANDARD
TZOFFSETFROM:-0400
TZOFFSETTO:-0500
TZNAME:EST
DTSTART:20261101T060000
END:STANDARD
END:VTIMEZONE
BEGIN:VEVENT
DTSTART;VALUE=DATE:20250308
DTEND;VALUE=DATE:20250309
DTSTAMP:20260423T043856
CREATED:20250805T174621Z
LAST-MODIFIED:20250805T174621Z
UID:5597-1741392000-1741478399@www.dentonsventurebeyond.com
SUMMARY:SXSW VC Brunch with Capital Factory
DESCRIPTION:Dentons Global Venture Technology Group sponsored Capital Factory’s 6th annual VC Brunch\, alongside Alpha Partners\, Type One Ventures\, National Venture Capital Association and Venture Atlanta Conference. \nThis invite-only brunch is held exclusively for VCs to connect with their peers and this year’s event welcomed 200+ VCs.
URL:https://www.dentonsventurebeyond.com/event/sxsw-vc-brunch-with-capital-factory/
LOCATION:SXSW
END:VEVENT
BEGIN:VEVENT
DTSTART;TZID=America/New_York:20250327T173000
DTEND;TZID=America/New_York:20250327T203000
DTSTAMP:20260423T043856
CREATED:20250805T180321Z
LAST-MODIFIED:20250805T180321Z
UID:5600-1743096600-1743107400@www.dentonsventurebeyond.com
SUMMARY:Sunset Sips: Investor & Founder Mixer at eMerge
DESCRIPTION:Join us during eMerge Americas for a happy hour mixer! Unwind after a busy day\, mingle with fellow innovators\, entrepreneur and investors to enjoy delicious cocktails and great conversation in a cool venue.
URL:https://www.dentonsventurebeyond.com/event/sunset-sips-investor-founder-mixer-at-emerge/
LOCATION:Miami Beach\, Florida
END:VEVENT
END:VCALENDAR