BEGIN:VCALENDAR
VERSION:2.0
PRODID:-//Dentons ventureBeyond - ECPv6.15.20//NONSGML v1.0//EN
CALSCALE:GREGORIAN
METHOD:PUBLISH
X-WR-CALNAME:Dentons ventureBeyond
X-ORIGINAL-URL:https://www.dentonsventurebeyond.com
X-WR-CALDESC:Events for Dentons ventureBeyond
REFRESH-INTERVAL;VALUE=DURATION:PT1H
X-Robots-Tag:noindex
X-PUBLISHED-TTL:PT1H
BEGIN:VTIMEZONE
TZID:America/New_York
BEGIN:DAYLIGHT
TZOFFSETFROM:-0500
TZOFFSETTO:-0400
TZNAME:EDT
DTSTART:20220313T070000
END:DAYLIGHT
BEGIN:STANDARD
TZOFFSETFROM:-0400
TZOFFSETTO:-0500
TZNAME:EST
DTSTART:20221106T060000
END:STANDARD
BEGIN:DAYLIGHT
TZOFFSETFROM:-0500
TZOFFSETTO:-0400
TZNAME:EDT
DTSTART:20230312T070000
END:DAYLIGHT
BEGIN:STANDARD
TZOFFSETFROM:-0400
TZOFFSETTO:-0500
TZNAME:EST
DTSTART:20231105T060000
END:STANDARD
BEGIN:DAYLIGHT
TZOFFSETFROM:-0500
TZOFFSETTO:-0400
TZNAME:EDT
DTSTART:20240310T070000
END:DAYLIGHT
BEGIN:STANDARD
TZOFFSETFROM:-0400
TZOFFSETTO:-0500
TZNAME:EST
DTSTART:20241103T060000
END:STANDARD
END:VTIMEZONE
BEGIN:VEVENT
DTSTART;TZID=America/New_York:20231130T140000
DTEND;TZID=America/New_York:20231130T170000
DTSTAMP:20260425T231356
CREATED:20230821T150720Z
LAST-MODIFIED:20230821T150720Z
UID:5198-1701352800-1701363600@www.dentonsventurebeyond.com
SUMMARY:ATS Labs - Demo Day
DESCRIPTION:Access to Success Labs is back again for 2023 and it’s time to celebrate the culmination of their 3-month program and hear from some of the world’s most promising accessibility startups. \nMatthew Literovich from our Toronto office will be there to hear the live pitches from the graduating startups. \nRegister here!
URL:https://www.dentonsventurebeyond.com/event/ats-labs-demo-day/
LOCATION:Microsoft Canada\, 81 Bay Street\, Toronto\, Ontario\, M5J 1E6\, Canada
CATEGORIES:Toronto
END:VEVENT
END:VCALENDAR