BEGIN:VCALENDAR
VERSION:2.0
PRODID:-//Dentons ventureBeyond - ECPv6.15.20//NONSGML v1.0//EN
CALSCALE:GREGORIAN
METHOD:PUBLISH
X-ORIGINAL-URL:https://www.dentonsventurebeyond.com
X-WR-CALDESC:Events for Dentons ventureBeyond
REFRESH-INTERVAL;VALUE=DURATION:PT1H
X-Robots-Tag:noindex
X-PUBLISHED-TTL:PT1H
BEGIN:VTIMEZONE
TZID:America/New_York
BEGIN:DAYLIGHT
TZOFFSETFROM:-0500
TZOFFSETTO:-0400
TZNAME:EDT
DTSTART:20220313T070000
END:DAYLIGHT
BEGIN:STANDARD
TZOFFSETFROM:-0400
TZOFFSETTO:-0500
TZNAME:EST
DTSTART:20221106T060000
END:STANDARD
BEGIN:DAYLIGHT
TZOFFSETFROM:-0500
TZOFFSETTO:-0400
TZNAME:EDT
DTSTART:20230312T070000
END:DAYLIGHT
BEGIN:STANDARD
TZOFFSETFROM:-0400
TZOFFSETTO:-0500
TZNAME:EST
DTSTART:20231105T060000
END:STANDARD
BEGIN:DAYLIGHT
TZOFFSETFROM:-0500
TZOFFSETTO:-0400
TZNAME:EDT
DTSTART:20240310T070000
END:DAYLIGHT
BEGIN:STANDARD
TZOFFSETFROM:-0400
TZOFFSETTO:-0500
TZNAME:EST
DTSTART:20241103T060000
END:STANDARD
END:VTIMEZONE
BEGIN:VEVENT
DTSTART;TZID=America/New_York:20230418T130000
DTEND;TZID=America/New_York:20230418T160000
DTSTAMP:20260422T132512
CREATED:20230404T181909Z
LAST-MODIFIED:20230404T181909Z
UID:5033-1681822800-1681833600@www.dentonsventurebeyond.com
SUMMARY:Taking a business approach to AI intellectual property [Webinar]
DESCRIPTION:Join us on April 18\, 2023 at 1 pm EDT for the webinar Taking a business approach to AI intellectual property.  \nLearn from experts discussing key IP issues that entrepreneurs\, technologists and those in the industry should keep in mind to better integrate “IP thinking” into their business decision-making. \nPanagiota Dafniotis from our Montréal office will be a speaker at the event to help navigate the maze of IP options and opportunities available. \nClick here to register! \n 
URL:https://www.dentonsventurebeyond.com/event/taking-a-business-approach-to-ai-intellectual-property-webinar/
LOCATION:Webinar
CATEGORIES:Montreal
END:VEVENT
END:VCALENDAR